BEGIN:VCALENDAR
VERSION:2.0
PRODID:-//Eventin//Event Calendar//EN
CALSCALE:GREGORIAN
METHOD:PUBLISH
BEGIN:VEVENT
UID:4a369f39176e0d042f7b9867af1406a8@vyrtual.net
SUMMARY:C.L.I.C.K. Denver
DESCRIPTION:For one day only\, the most ambitious creators\, entrepreneurs\
 , and marketers in Colorado are coming together. Colorado C.L.I.C.K. is a o
 ne-day summit meticulously designed to provide the clarity\, connections\, 
 and confidence you need to kickstart your next big thing.\nOn Saturday\, De
 cember 13th\, join us at the iconic McNichols Civic Center Building in down
 town Denver (Pending Confirmation) for a high-energy experience that's part
  conference\, part workshop\, and part creative playground.\nTwo Ways to At
 tend: In-Person or Online!\nWhether you join us in the heart of Denver or f
 rom the comfort of your home\, C.L.I.C.K. is built for you. Choose the expe
 rience that's right for your schedule and goals.\nThe In-Person Experience 
 ($15 RSVP Confirmation): Feel the energy in the room. Network face-to-face 
 with 600 peers\, get hands-on at our interactive stations\, and fully immer
 se yourself in a day of growth. This is the ultimate way to experience C.L.
 I.C.K.\nThe Vyrtual Stream™ Experience (FREE): Can't make it to Denver? N
 o problem. Grab a free virtual ticket and get access to a professionally pr
 oduced\, multi-camera livestream of all the main stage keynotes. Learn from
  our speakers from anywhere in the world.\nWhat You'll Experience:\n\n\nGam
 e-Changing Keynotes: Learn real-world tactics for brand building and moneti
 zation from our curated lineup of expert speakers.\n\n\nThe "Brand Triage" 
 Bar: (In-person only) Get a one-on-one consultation with an expert in brand
 ing\, web design\, or digital ads.\n\n\nThe "Pitch Practice" Corner: (In-pe
 rson only) Refine your 60-second elevator pitch with instant feedback from 
 a seasoned business coach.\n\n\nThe Headshot Hub: (In-person only) Walk awa
 y with a brand-new\, professional headshot.\n\n\nCreative Playgrounds: (In-
 person only) Record a demo in the Podcast Pod\, film your next viral hit in
  the Reels/TikTok Studio\, and find your next partner at the Collaboration 
 Board.\n\n\nWho Should Attend?\n\n\nAspiring Creators ready to turn their p
 assion into a profession.\n\n\nSide-Hustle Founders looking to scale their 
 business and quit their 9-to-5.\n\n\nMarketers & Professionals eager to lea
 rn cutting-edge skills and expand their network.\n\n\nYour ticket is more t
 han just entry\; it's an investment in your ambition.\nSign up now to be th
 e first to know when tickets go live. An exclusive 24-hour early bird windo
 w will be available to everyone on the waitlist!
LOCATION:McNichols Civic Center Building\, Denver\, CO (Pending Confirmatio
 n)
DTSTAMP:20260423T132755Z
DTSTART:20261213T160000Z
DTEND:20261214T010000Z
END:VEVENT
END:VCALENDAR
