BEGIN:VCALENDAR
VERSION:2.0
PRODID:-//Eventin//Event Calendar//EN
CALSCALE:GREGORIAN
METHOD:PUBLISH
BEGIN:VEVENT
UID:3588c5d58f6dd8773189fdcad0097b3b@vyrtual.net
SUMMARY:East Coast Threads NY
DESCRIPTION:East Coast Threads is not just a pop-up — it’s a cultural m
 ovement. This one-night fashion event in New York City brings together the 
 raw edge of underground streetwear\, the innovation of indie designers\, an
 d the pulse of the city’s creative scene.\nCurated for style enthusiasts\
 , trendsetters\, and fashion rebels\, East Coast Threads is your backstage 
 pass to the future of fashion. From exclusive capsule drops to live garment
  customization and interactive art installations\, this event celebrates in
 dividuality\, expression\, and bold design. Whether you're a sneakerhead\, 
 stylist\, collector\, or creative hustler\, this is your space to discover 
 what’s next in street culture.\nWhat You’ll Experience:\n\n\nLimited-ed
 ition drops from emerging and underground brands\n\n\nLive DJ sets spinning
  hip-hop\, trap\, Afrobeat\, and house all night\n\n\nOn-site customization
  booths: patchwork\, screen printing\, and embroidery\n\n\nDesigner Q&A ses
 sions and panel talks on fashion\, identity\, and culture\n\n\nPop-up shops
 \, food trucks\, and exclusive collab merch\n\n\nA creator's alley for phot
 ographers\, stylists\, and fashion influencers to connect and collab\n\n\nS
 et in a raw urban venue with industrial vibes and city energy\, East Coast 
 Threads is more than a shopping experience — it's where culture meets com
 merce\, and where fashion tells the story of now.
LOCATION:Online
DTSTAMP:20260423T132631Z
DTSTART:20261204T010000Z
DTEND:20261204T050000Z
END:VEVENT
END:VCALENDAR
