BEGIN:VCALENDAR
VERSION:2.0
PRODID:-//Eventin//Event Calendar//EN
CALSCALE:GREGORIAN
METHOD:PUBLISH
BEGIN:VEVENT
UID:5ec2760e581679bc3e9eb11bf75a6918@vyrtual.net
SUMMARY:NextGen Creator Con Seattle
DESCRIPTION:NextGen Creator Con is a two-day immersive experience crafted f
 or the bold\, the creative\, and the visionary. Whether you're a podcaster\
 , filmmaker\, influencer\, designer\, or content entrepreneur\, this confer
 ence is your launchpad for growth in the ever-evolving digital space.\nAt N
 extGen\, you’ll hear directly from top creators and creative executives w
 ho’ve built audiences\, monetized their platforms\, and turned passion in
 to full-time income. Through actionable keynote talks\, hands-on workshops\
 , and peer-to-peer collaboration\, you’ll gain the tools and strategies y
 ou need to scale your content and expand your reach.\nThis isn’t just ano
 ther conference—it’s a creator lab\, content incubator\, and business a
 ccelerator all in one.\nWhat to Expect:\n\n\nKeynotes from top digital crea
 tors\, agency reps\, and platform partners\n\n\nBreakout sessions on moneti
 zation\, licensing\, brand partnerships\, and crowdfunding\n\n\nCreator cli
 nics on editing\, storytelling\, livestreaming\, and digital product sales\
 n\n\nHands-on access to gear\, software\, and tools that level up productio
 n quality\n\n\nInteractive networking lounges and pitch rooms for brand dea
 ls and collabs\n\n\nA “Content Sprint Studio” where you can plan\, shoo
 t\, and publish live from the event\n\n\nWhether you're just starting or al
 ready earning from your content\, NextGen Creator Con will equip you with t
 he knowledge\, network\, and confidence to build your creator business with
  intention and innovation.\nCreate. Scale. Own your space.
LOCATION:Online
DTSTAMP:20260423T132442Z
DTSTART:20261114T180000Z
DTEND:20261116T010000Z
END:VEVENT
END:VCALENDAR
