BEGIN:VCALENDAR
VERSION:2.0
PRODID:-//Eventin//Event Calendar//EN
CALSCALE:GREGORIAN
METHOD:PUBLISH
BEGIN:VEVENT
UID:5feae75e06262b3cbf581bdb551d7d32@vyrtual.net
SUMMARY:InfluenceLink Meetup Chicago
DESCRIPTION:InfluenceLink is a high-impact networking experience designed e
 xclusively for content creators\, social media professionals\, influencers\
 , and digital entrepreneurs who are ready to grow their brand\, expand thei
 r partnerships\, and level up their impact.\nThis one-day event brings toge
 ther emerging voices and established names across platforms like Instagram\
 , YouTube\, TikTok\, LinkedIn\, and beyond. From branding and monetization 
 to community-building and content strategy\, you’ll gain real-world insig
 ht through expert-led panels\, interactive workshops\, and live Q&As.\nWhet
 her you're looking to land your next brand deal\, collaborate with other cr
 eatives\, or refine your personal brand\, InfluenceLink offers the perfect 
 atmosphere to connect\, learn\, and get inspired. Plus\, our curated networ
 king lounges\, creator marketplace\, and pitch sessions with brand reps wil
 l give you hands-on opportunities to grow your digital influence in real ti
 me.\nHighlights include:\n\n\nCreator-focused panels with top digital marke
 ting experts\n\n\nMeet-and-greet sessions with brand managers and talent ag
 encies\n\n\nTools and tech showcase for creators\n\n\nProfessional headshot
  station and personal branding tips\n\n\nLive content zones to film\, colla
 borate\, and create on-site\n\n\nCome build relationships that matter—and
  take your digital brand to the next level.
LOCATION:Online
DTSTAMP:20260423T115612Z
DTSTART:20260606T180000Z
DTEND:20260606T230000Z
END:VEVENT
END:VCALENDAR
