BEGIN:VCALENDAR
VERSION:2.0
PRODID:-//Eventin//Event Calendar//EN
CALSCALE:GREGORIAN
METHOD:PUBLISH
BEGIN:VEVENT
UID:c309c669514e1986b8ce8d8ca72bc33a@vyrtual.net
SUMMARY:Art & Music Fest Miami
DESCRIPTION:Welcome to Art & Music Fest Miami\, a weekend celebration of co
 lor\, sound\, and soul set in one of the most culturally rich cities in the
  U.S. This immersive festival brings together local and international artis
 ts\, musicians\, and creators for a bold experience that blurs the lines be
 tween gallery\, stage\, and street.\nFrom large-scale murals and interactiv
 e installations to live bands\, DJ sets\, and spontaneous jam sessions\, Ar
 t & Music Fest is a living\, breathing canvas of creativity. Whether you're
  a seasoned collector\, a passionate music lover\, or just looking for some
 thing unforgettable to do in Miami\, this is your moment to engage\, explor
 e\, and be inspired.\nFestival Highlights:\n\n\nLive mural painting and gra
 ffiti showcases from top street artists\n\n\nA curated art market featuring
  paintings\, prints\, apparel\, and handmade goods\n\n\nPerformances by ind
 ie bands\, Latin fusion acts\, soul singers\, and experimental DJs\n\n\nArt
  workshops and creative labs for all ages\n\n\nFood trucks serving local cu
 isine\, tropical drinks\, and global bites\n\n\nNighttime projection mappin
 g and digital art shows under the stars\n\n\nCome solo or with your crew an
 d experience the electric fusion of artistic energy and Miami flavor. Wheth
 er day or night\, this festival is bursting with discovery\, connection\, a
 nd unforgettable vibes.
LOCATION:Los Angeles\, CA
DTSTAMP:20260423T115603Z
DTSTART:20260713T000000Z
DTEND:20260713T050000Z
END:VEVENT
END:VCALENDAR
